BEGIN:VCALENDAR
VERSION:2.0
PRODID:-//RSL SA Branch - ECPv5.4.0//NONSGML v1.0//EN
CALSCALE:GREGORIAN
METHOD:PUBLISH
X-WR-CALNAME:RSL SA Branch
X-ORIGINAL-URL:https://rslsa.org.au
X-WR-CALDESC:Events for RSL SA Branch
BEGIN:VTIMEZONE
TZID:Australia/Adelaide
BEGIN:STANDARD
TZOFFSETFROM:+1030
TZOFFSETTO:+0930
TZNAME:ACST
DTSTART:20210403T163000
END:STANDARD
BEGIN:DAYLIGHT
TZOFFSETFROM:+0930
TZOFFSETTO:+1030
TZNAME:ACDT
DTSTART:20211002T163000
END:DAYLIGHT
END:VTIMEZONE
BEGIN:VEVENT
DTSTART;VALUE=DATE:20210425
DTEND;VALUE=DATE:20210426
DTSTAMP:20210301T001844
CREATED:20201208T232453Z
LAST-MODIFIED:20201208T232453Z
UID:4783-1619308800-1619395199@rslsa.org.au
SUMMARY:ANZAC Day
DESCRIPTION:Australia’s national day of commemoration for its military service contribution to the nation and the world. \n\nTweet
URL:https://rslsa.org.au/event/anzac-day-5/
CATEGORIES:Commemoration
END:VEVENT
END:VCALENDAR