BEGIN:VCALENDAR
VERSION:2.0
PRODID:-//RSL SA Branch - ECPv5.4.0//NONSGML v1.0//EN
CALSCALE:GREGORIAN
METHOD:PUBLISH
X-WR-CALNAME:RSL SA Branch
X-ORIGINAL-URL:https://rslsa.org.au
X-WR-CALDESC:Events for RSL SA Branch
BEGIN:VTIMEZONE
TZID:Australia/Adelaide
BEGIN:STANDARD
TZOFFSETFROM:+1030
TZOFFSETTO:+0930
TZNAME:ACST
DTSTART:20210403T163000
END:STANDARD
BEGIN:DAYLIGHT
TZOFFSETFROM:+0930
TZOFFSETTO:+1030
TZNAME:ACDT
DTSTART:20211002T163000
END:DAYLIGHT
END:VTIMEZONE
BEGIN:VEVENT
DTSTART;TZID=Australia/Adelaide:20210219T094500
DTEND;TZID=Australia/Adelaide:20210219T104500
DTSTAMP:20210301T001145
CREATED:20210201T011033Z
LAST-MODIFIED:20210201T054758Z
UID:4903-1613727900-1613731500@rslsa.org.au
SUMMARY:Salisbury Bombing of Darwin Commemoration
DESCRIPTION:A commemorative service to remember the Bombing of Darwin by Japanese forces on 19th February 1942 will be conducted at the War Memorial\, Orange Avenue\, Salisbury at 9:45am on Friday 19th February 2021. Light refreshments available afterwards at Salisbury RSL.\n\nTweet
URL:https://rslsa.org.au/event/bombing-of-darwin-commemoration/
LOCATION:Salisbury War Memorial\, Orange Avenue\, Salisbury War Memorial\, Orange Avenue\, Salisbury\, SA\, 5108\, Australia
CATEGORIES:Commemoration
ATTACH;FMTTYPE=image/jpeg:https://rslsa.org.au/wp-content/uploads/2021/02/Darwin-Memorial.jpg
END:VEVENT
END:VCALENDAR