BEGIN:VCALENDAR
VERSION:2.0
PRODID:-//RSL SA Branch - ECPv5.4.0//NONSGML v1.0//EN
CALSCALE:GREGORIAN
METHOD:PUBLISH
X-WR-CALNAME:RSL SA Branch
X-ORIGINAL-URL:https://rslsa.org.au
X-WR-CALDESC:Events for RSL SA Branch
BEGIN:VTIMEZONE
TZID:Australia/Adelaide
BEGIN:STANDARD
TZOFFSETFROM:+1030
TZOFFSETTO:+0930
TZNAME:ACST
DTSTART:20210403T163000
END:STANDARD
BEGIN:DAYLIGHT
TZOFFSETFROM:+0930
TZOFFSETTO:+1030
TZNAME:ACDT
DTSTART:20211002T163000
END:DAYLIGHT
END:VTIMEZONE
BEGIN:VEVENT
DTSTART;VALUE=DATE:20210215
DTEND;VALUE=DATE:20210221
DTSTAMP:20210301T001050
CREATED:20210201T014822Z
LAST-MODIFIED:20210201T014822Z
UID:4908-1613347200-1613865599@rslsa.org.au
SUMMARY:City of Darwin Bombing Anniversary Activities
DESCRIPTION:The City of Darwin is conducting several activities recognising the 1942 Bombing of Darwin by Japanese forces. View activities calendar\n\nTweet
URL:https://rslsa.org.au/event/city-of-darwin-bombing-anniversary-activities/
CATEGORIES:Commemoration
ATTACH;FMTTYPE=image/jpeg:https://rslsa.org.au/wp-content/uploads/2021/02/bombing_of_darwin_2021-800x208-1.jpg
ORGANIZER;CN="City%20of%20Dawin":MAILTO:darwin@darwin.nt.gov.au
END:VEVENT
END:VCALENDAR