BEGIN:VCALENDAR
VERSION:2.0
PRODID:-//RSL SA Branch - ECPv5.4.0//NONSGML v1.0//EN
CALSCALE:GREGORIAN
METHOD:PUBLISH
X-WR-CALNAME:RSL SA Branch
X-ORIGINAL-URL:https://rslsa.org.au
X-WR-CALDESC:Events for RSL SA Branch
BEGIN:VTIMEZONE
TZID:Australia/Adelaide
BEGIN:STANDARD
TZOFFSETFROM:+1030
TZOFFSETTO:+0930
TZNAME:ACST
DTSTART:20210403T163000
END:STANDARD
BEGIN:DAYLIGHT
TZOFFSETFROM:+0930
TZOFFSETTO:+1030
TZNAME:ACDT
DTSTART:20211002T163000
END:DAYLIGHT
END:VTIMEZONE
BEGIN:VEVENT
DTSTART;VALUE=DATE:20210402
DTEND;VALUE=DATE:20210406
DTSTAMP:20210301T001631
CREATED:20210113T010508Z
LAST-MODIFIED:20210113T010508Z
UID:4864-1617321600-1617667199@rslsa.org.au
SUMMARY:Easter
DESCRIPTION:RSL SA State Branch is closed during Easter. \n\nTweet
URL:https://rslsa.org.au/event/easter/
CATEGORIES:Uncategorised
END:VEVENT
END:VCALENDAR