BEGIN:VCALENDAR
VERSION:2.0
PRODID:-//RSL SA Branch - ECPv5.4.0//NONSGML v1.0//EN
CALSCALE:GREGORIAN
METHOD:PUBLISH
X-WR-CALNAME:RSL SA Branch
X-ORIGINAL-URL:https://rslsa.org.au
X-WR-CALDESC:Events for RSL SA Branch
BEGIN:VTIMEZONE
TZID:Australia/Adelaide
BEGIN:STANDARD
TZOFFSETFROM:+1030
TZOFFSETTO:+0930
TZNAME:ACST
DTSTART:20210403T163000
END:STANDARD
BEGIN:DAYLIGHT
TZOFFSETFROM:+0930
TZOFFSETTO:+1030
TZNAME:ACDT
DTSTART:20211002T163000
END:DAYLIGHT
END:VTIMEZONE
BEGIN:VEVENT
DTSTART;VALUE=DATE:20210426
DTEND;VALUE=DATE:20210427
DTSTAMP:20210301T002048
CREATED:20201208T232636Z
LAST-MODIFIED:20210113T010254Z
UID:4785-1619395200-1619481599@rslsa.org.au
SUMMARY:Public Holiday
DESCRIPTION:Due to ANZAC Day falling on Sunday 25th April\, Monday 26th is a public holiday in South Australia and the Northern Territory. \n\nTweet
URL:https://rslsa.org.au/event/public-holiday-south-australia/
CATEGORIES:Uncategorised
END:VEVENT
END:VCALENDAR