BEGIN:VCALENDAR
VERSION:2.0
PRODID:-//RSL SA Branch - ECPv5.4.0//NONSGML v1.0//EN
CALSCALE:GREGORIAN
METHOD:PUBLISH
X-WR-CALNAME:RSL SA Branch
X-ORIGINAL-URL:https://rslsa.org.au
X-WR-CALDESC:Events for RSL SA Branch
BEGIN:VTIMEZONE
TZID:Australia/Adelaide
BEGIN:STANDARD
TZOFFSETFROM:+1030
TZOFFSETTO:+0930
TZNAME:ACST
DTSTART:20210403T163000
END:STANDARD
BEGIN:DAYLIGHT
TZOFFSETFROM:+0930
TZOFFSETTO:+1030
TZNAME:ACDT
DTSTART:20211002T163000
END:DAYLIGHT
END:VTIMEZONE
BEGIN:VEVENT
DTSTART;TZID=Australia/Adelaide:20210111T081500
DTEND;TZID=Australia/Adelaide:20210111T163000
DTSTAMP:20210301T000128
CREATED:20201210T003720Z
LAST-MODIFIED:20201210T003720Z
UID:4808-1610352900-1610382600@rslsa.org.au
SUMMARY:RSL SA Office Reopens
DESCRIPTION:Tweet
URL:https://rslsa.org.au/event/rsl-sa-office-reopens/
LOCATION:RSL-SA\, Torrens Parade Ground\, Victoria Drive\, Adelaide\, South Australia\, 5000
CATEGORIES:Uncategorised
ORGANIZER;CN="RSL%20SA":MAILTO:reception@rslsa.org.au
END:VEVENT
END:VCALENDAR